BEGIN:VCALENDAR
VERSION:2.0
PRODID:-//КДАіС
CALSCALE:GREGORIAN
METHOD:PUBLISH
X-WR-CALNAME:КДАіС
X-ORIGINAL-URL:https://kdais.kiev.ua/event/9102022/
X-WR-CALDESC:Літургія в Академічному храмі у Неділю 17-ту після П&#8217;ятидесятниці та дня пам’яті святого апостола і євангеліста Iоанна Богослова
BEGIN:VEVENT
DTSTART:20221009T233000
DTEND:20221009T233000
SUMMARY:Літургія в Академічному храмі у Неділю 17-ту після П&#8217;ятидесятниці та дня пам’яті святого апостола і євангеліста Iоанна Богослова
DESCRIPTION:За богослужінням молились викладачі, студенти і вихованці КДАіС, парафіяни храму, паломники Свято-Успенської Києво-Печерської Лаври, а також віряни, які знайшли прихисток в Київських духовних школах.


LOCATION:
END:VEVENT
END:VCALENDAR
