BEGIN:VCALENDAR
VERSION:2.0
PRODID:-//КДАіС
CALSCALE:GREGORIAN
METHOD:PUBLISH
X-WR-CALNAME:КДАіС
X-ORIGINAL-URL:https://kdais.kiev.ua/event/rector-09102022/
X-WR-CALDESC:Архієпископ Білогородський Сильвестр очолив Божественну літургію у Богоявленському храмі міста Києва
BEGIN:VEVENT
DTSTART:20221009T000000
DTEND:20221009T000000
SUMMARY:Архієпископ Білогородський Сильвестр очолив Божественну літургію у Богоявленському храмі міста Києва
DESCRIPTION:За богослужінням Його Високопреосвященству співслужили: благочинний Першого Дарницького благочиння протоієрей Василій Біляк, благочинний Другого Шевченківського благочиння протоієрей Віталій Бойко, благочинний Святошинського благочиння протоієрей Василій Олексик, настоятель храму протоієрей Сергій Бойко, духовенство храму та гості у священному сані.
LOCATION:
END:VEVENT
END:VCALENDAR
