BEGIN:VCALENDAR
VERSION:2.0
PRODID:-//КДАіС
CALSCALE:GREGORIAN
METHOD:PUBLISH
X-WR-CALNAME:КДАіС
X-ORIGINAL-URL:https://kdais.kiev.ua/event/18102022-5/
X-WR-CALDESC:Архієпископ Сильвестр (Стойчев) &#8220;Греко-болгарський розкол у 1872 році: історія та канонічна оцінка&#8221;
BEGIN:VEVENT
DTSTART:20221018T233000
DTEND:20221018T233000
SUMMARY:Архієпископ Сильвестр (Стойчев) &#8220;Греко-болгарський розкол у 1872 році: історія та канонічна оцінка&#8221;
DESCRIPTION:Доповідь ректора Київської духовної академії і семінарії архієпископа Білогородського Сильвестра на XIV Міжнародній науково-практичній конференції у КДА 18 жовтня 2022 року.
LOCATION:
END:VEVENT
END:VCALENDAR
