BEGIN:VCALENDAR
VERSION:2.0
PRODID:-//КДАіС
CALSCALE:GREGORIAN
METHOD:PUBLISH
X-WR-CALNAME:КДАіС
X-ORIGINAL-URL:https://kdais.kiev.ua/event/26102022/
X-WR-CALDESC:Ректор КДАіС очолив престольне свято храму на честь Іверської ікони Божої Матері
BEGIN:VEVENT
DTSTART:20221026T233000
DTEND:20221026T233000
SUMMARY:Ректор КДАіС очолив престольне свято храму на честь Іверської ікони Божої Матері
DESCRIPTION:Божественна літургія була звершена в храмі на честь Іверської ікони Божої Матері храмового комплексу на честь ікони Божої Матері «Скоропослушниця» у І Дарницькому благочинні м. Києва.
LOCATION:
END:VEVENT
END:VCALENDAR
