BEGIN:VCALENDAR
VERSION:2.0
PRODID:-//КДАіС
CALSCALE:GREGORIAN
METHOD:PUBLISH
X-WR-CALNAME:КДАіС
X-ORIGINAL-URL:https://kdais.kiev.ua/event/111122/
X-WR-CALDESC:В дар КДА передано Святе Євангеліє, видане у 1651 році
BEGIN:VEVENT
DTSTART:20221111T233000
DTEND:20221111T233000
SUMMARY:В дар КДА передано Святе Євангеліє, видане у 1651 році
DESCRIPTION:Старовинне Євангеліє передала настоятелька Святогірського Успенського Зимненського жіночого монастиря ігуменя Стефана (Бандура) під час урочистого річного акту Київських духовних шкіл.
LOCATION:
END:VEVENT
END:VCALENDAR
