BEGIN:VCALENDAR
VERSION:2.0
PRODID:-//КДАіС
CALSCALE:GREGORIAN
METHOD:PUBLISH
X-WR-CALNAME:КДАіС
X-ORIGINAL-URL:https://kdais.kiev.ua/event/16112022/
X-WR-CALDESC:Вийшов з друку календар на 2023 рік «Рік з Академією»
BEGIN:VEVENT
DTSTART:20221116T233000
DTEND:20221116T233000
SUMMARY:Вийшов з друку календар на 2023 рік «Рік з Академією»
DESCRIPTION:Календар присвячено подвижникам благочестя, котрі входять до Собору святих Київської духовної академії.
LOCATION:
END:VEVENT
END:VCALENDAR
