BEGIN:VCALENDAR
VERSION:2.0
PRODID:-//КДАіС
CALSCALE:GREGORIAN
METHOD:PUBLISH
X-WR-CALNAME:КДАіС
X-ORIGINAL-URL:https://kdais.kiev.ua/event/16112022-novyna/
X-WR-CALDESC:Представник КДА взяв участь у Третьому Київському Форумі толерантності (міжетнічна та міжконфесійна платформи)
BEGIN:VEVENT
DTSTART:20221116T233000
DTEND:20221116T233000
SUMMARY:Представник КДА взяв участь у Третьому Київському Форумі толерантності (міжетнічна та міжконфесійна платформи)
DESCRIPTION:З благословення Блаженнішого Митрополита Київського і всієї України Онуфрія, Українську Православну Церкву представив перший проректор протоієрей Сергій Ющик.
LOCATION:
END:VEVENT
END:VCALENDAR
