BEGIN:VCALENDAR
VERSION:2.0
PRODID:-//КДАіС
CALSCALE:GREGORIAN
METHOD:PUBLISH
X-WR-CALNAME:КДАіС
X-ORIGINAL-URL:https://kdais.kiev.ua/event/18112022/
X-WR-CALDESC:Вийшло з друку 2-ге видання підручника з догматичного богослов’я авторства ректора Київських духовних шкіл
BEGIN:VEVENT
DTSTART:20221118T233000
DTEND:20221118T233000
SUMMARY:Вийшло з друку 2-ге видання підручника з догматичного богослов’я авторства ректора Київських духовних шкіл
DESCRIPTION:Посібник призначений для студентів духовних шкіл, він буде також корисний усім, хто цікавиться віровченням Православної Церкви і догматичною наукою.
LOCATION:
END:VEVENT
END:VCALENDAR
