BEGIN:VCALENDAR
VERSION:2.0
PRODID:-//КДАіС
CALSCALE:GREGORIAN
METHOD:PUBLISH
X-WR-CALNAME:КДАіС
X-ORIGINAL-URL:https://kdais.kiev.ua/event/svyati_kda_02012025/
X-WR-CALDESC:Собор святих КДА: святитель Антоній (Смирницький), архієп. Воронезький і Задонський (+1846)
BEGIN:VEVENT
DTSTART:20250102T233000
DTEND:20250102T233000
SUMMARY:Собор святих КДА: святитель Антоній (Смирницький), архієп. Воронезький і Задонський (+1846)
DESCRIPTION:У 1783-1796 рр. навчався у Києво-Могилянській академії. Прізвище Смирницький отримав під час навчання за своє смирення та тихість характеру
LOCATION:
END:VEVENT
END:VCALENDAR
