BEGIN:VCALENDAR
VERSION:2.0
PRODID:-//КДАіС
CALSCALE:GREGORIAN
METHOD:PUBLISH
X-WR-CALNAME:КДАіС
X-ORIGINAL-URL:https://kdais.kiev.ua/event/02012023/
X-WR-CALDESC:День пам&#8217;яті прав. Іоанна Кронштадтського, сщмч. Ігнатія Богоносця та свт. Антонія, архієп. Воронезького і Задонського 
BEGIN:VEVENT
DTSTART:20230102T233000
DTEND:20230102T233000
SUMMARY:День пам&#8217;яті прав. Іоанна Кронштадтського, сщмч. Ігнатія Богоносця та свт. Антонія, архієп. Воронезького і Задонського 
DESCRIPTION:Керуючий справами Української Православної Церкви митрополит Бориспільський і Броварський Антоній звершив Божественну літургію в Академічному храмі на честь Різдва Божої Матері.
LOCATION:
END:VEVENT
END:VCALENDAR
