BEGIN:VCALENDAR
VERSION:2.0
PRODID:-//КДАіС
CALSCALE:GREGORIAN
METHOD:PUBLISH
X-WR-CALNAME:КДАіС
X-ORIGINAL-URL:https://kdais.kiev.ua/event/svyati_kda_03012025/
X-WR-CALDESC:Собор святих КДА: святитель Філарет (Амфітеатров), митрополит Київський і Галицький (+1857)
BEGIN:VEVENT
DTSTART:20250103T233000
DTEND:20250103T233000
SUMMARY:Собор святих КДА: святитель Філарет (Амфітеатров), митрополит Київський і Галицький (+1857)
DESCRIPTION:Водночас митрополит був проректором Київської духовної академії. Звертав особливу увагу на викладачів, зміну яких прагнув готувати з-поміж самих студентів, стежив за характером та змістом лекцій
LOCATION:
END:VEVENT
END:VCALENDAR
