BEGIN:VCALENDAR
VERSION:2.0
PRODID:-//КДАіС
CALSCALE:GREGORIAN
METHOD:PUBLISH
X-WR-CALNAME:КДАіС
X-ORIGINAL-URL:https://kdais.kiev.ua/event/bdinnya-06012023/
X-WR-CALDESC:Богослужіння в Київських духовних школах напередодні свята Різдва Христового (+ВІДЕО)
BEGIN:VEVENT
DTSTART:20230106T233000
DTEND:20230106T233000
SUMMARY:Богослужіння в Київських духовних школах напередодні свята Різдва Христового (+ВІДЕО)
DESCRIPTION:Богослужіння очолив ректор Київської духовної академії і семінарії архієпископ Білогородський Сильвестр.
LOCATION:
END:VEVENT
END:VCALENDAR
