BEGIN:VCALENDAR
VERSION:2.0
PRODID:-//КДАіС
CALSCALE:GREGORIAN
METHOD:PUBLISH
X-WR-CALNAME:КДАіС
X-ORIGINAL-URL:https://kdais.kiev.ua/event/14012023/
X-WR-CALDESC:Вітаємо доцента протоієрея Василія Яковчука з 35-річчям з Дня народження!
BEGIN:VEVENT
DTSTART:20230114T233000
DTEND:20230114T233000
SUMMARY:Вітаємо доцента протоієрея Василія Яковчука з 35-річчям з Дня народження!
DESCRIPTION:Ваше Високопреподобіє, дорогий отче! У цей особливий для Вас день корпорація Київських духовних шкіл вітає Вас з Днем Вашого народження.
LOCATION:
END:VEVENT
END:VCALENDAR
