BEGIN:VCALENDAR
VERSION:2.0
PRODID:-//КДАіС
CALSCALE:GREGORIAN
METHOD:PUBLISH
X-WR-CALNAME:КДАіС
X-ORIGINAL-URL:https://kdais.kiev.ua/event/12012023-2/
X-WR-CALDESC:Богослужіння напередодні дня пам’яті свт. Петра Могили та сщсп. Досифея, митр. Загребського
BEGIN:VEVENT
DTSTART:20230112T233000
DTEND:20230112T233000
SUMMARY:Богослужіння напередодні дня пам’яті свт. Петра Могили та сщсп. Досифея, митр. Загребського
DESCRIPTION:Богослужіння очолив завідувач бібліотеки та церковно-археологічного музею архімандрит Дамаскін (Лебедь) у співслужінні членів адміністрації, викладачів та студентів Київських духовних шкіл у священному сані.
LOCATION:
END:VEVENT
END:VCALENDAR
