BEGIN:VCALENDAR
VERSION:2.0
PRODID:-//КДАіС
CALSCALE:GREGORIAN
METHOD:PUBLISH
X-WR-CALNAME:КДАіС
X-ORIGINAL-URL:https://kdais.kiev.ua/event/13012023-5/
X-WR-CALDESC:Всенічне бдіння в Академічному храмі напередодні свята Обрізання Господнього та дня пам’яті свт. Василія Великого
BEGIN:VEVENT
DTSTART:20230113T233000
DTEND:20230113T233000
SUMMARY:Всенічне бдіння в Академічному храмі напередодні свята Обрізання Господнього та дня пам’яті свт. Василія Великого
DESCRIPTION:Богослужіння звершив проректор з виховної роботи єпископ Згурівський Амвросій у співслужінні членів адміністрації, викладачів та студентів Київських духовних шкіл у священному сані.
LOCATION:
END:VEVENT
END:VCALENDAR
