BEGIN:VCALENDAR
VERSION:2.0
PRODID:-//КДАіС
CALSCALE:GREGORIAN
METHOD:PUBLISH
X-WR-CALNAME:КДАіС
X-ORIGINAL-URL:https://kdais.kiev.ua/event/15012023/
X-WR-CALDESC:Щиро вітаємо ректора КДАіС архієпископа Білогородського Сильвестра з Днем тезоіменитства!
BEGIN:VEVENT
DTSTART:20230115T233000
DTEND:20230115T233000
SUMMARY:Щиро вітаємо ректора КДАіС архієпископа Білогородського Сильвестра з Днем тезоіменитства!
DESCRIPTION:Велика родина Київських духовних шкіл від усього серця вітає свого ректора з днем Небесного покровителя — святителя Сильвестра, папи Римського!
LOCATION:
END:VEVENT
END:VCALENDAR
