BEGIN:VCALENDAR
VERSION:2.0
PRODID:-//КДАіС
CALSCALE:GREGORIAN
METHOD:PUBLISH
X-WR-CALNAME:КДАіС
X-ORIGINAL-URL:https://kdais.kiev.ua/event/14012023-spivchuttia/
X-WR-CALDESC:Співчуття Київських духовних шкіл у зв’язку з трагедією у м. Дніпро внаслідок російського ракетного удару
BEGIN:VEVENT
DTSTART:20230114T233000
DTEND:20230114T233000
SUMMARY:Співчуття Київських духовних шкіл у зв’язку з трагедією у м. Дніпро внаслідок російського ракетного удару
DESCRIPTION:Київські духовні школи висловлюють співчуття рідним і близьким загиблих. Нехай Всемилостивий Господь упокоїть душі невинно вбитих в оселях праведних. Ми підносимо свої молитви за одужання поранених та тих, хто залишився без домівки.
LOCATION:
END:VEVENT
END:VCALENDAR
