BEGIN:VCALENDAR
VERSION:2.0
PRODID:-//КДАіС
CALSCALE:GREGORIAN
METHOD:PUBLISH
X-WR-CALNAME:КДАіС
X-ORIGINAL-URL:https://kdais.kiev.ua/event/17012023/
X-WR-CALDESC:Вийшла з друку книга проректора з навчально-методичної роботи архімандрита Філарета (Волошина)
BEGIN:VEVENT
DTSTART:20230117T233000
DTEND:20230117T233000
SUMMARY:Вийшла з друку книга проректора з навчально-методичної роботи архімандрита Філарета (Волошина)
DESCRIPTION:Книга «Полемика с Арианами в трактате Вигилия, епископа Тапского, «Диалог против ариан, савеллиан и фотиниан» буде цікавою тим, хто вивчає богослов'я та історію Стародавньої Церкви.
LOCATION:
END:VEVENT
END:VCALENDAR
