BEGIN:VCALENDAR
VERSION:2.0
PRODID:-//КДАіС
CALSCALE:GREGORIAN
METHOD:PUBLISH
X-WR-CALNAME:КДАіС
X-ORIGINAL-URL:https://kdais.kiev.ua/event/18012023_3/
X-WR-CALDESC:Архієпископ Сильвестр звершив в Академії Літургію та чин Великого освячення води у Навечір’я Богоявлення
BEGIN:VEVENT
DTSTART:20230118T233000
DTEND:20230118T233000
SUMMARY:Архієпископ Сильвестр звершив в Академії Літургію та чин Великого освячення води у Навечір’я Богоявлення
DESCRIPTION:Богослужіння та освячення води були звершені в Академічному храмі на честь Різдва Божої Матері.
LOCATION:
END:VEVENT
END:VCALENDAR
