BEGIN:VCALENDAR
VERSION:2.0
PRODID:-//КДАіС
CALSCALE:GREGORIAN
METHOD:PUBLISH
X-WR-CALNAME:КДАіС
X-ORIGINAL-URL:https://kdais.kiev.ua/event/18012023-bdinnya/
X-WR-CALDESC:Богослужіння в КДА напередодні свята Богоявлення
BEGIN:VEVENT
DTSTART:20230118T233000
DTEND:20230118T233000
SUMMARY:Богослужіння в КДА напередодні свята Богоявлення
DESCRIPTION:За богослужінням також молились студенти і вихованці Київських духовних шкіл, парафіяни храму та паломники Свято-Успенської Києво-Печерської Лаври.
LOCATION:
END:VEVENT
END:VCALENDAR
