BEGIN:VCALENDAR
VERSION:2.0
PRODID:-//КДАіС
CALSCALE:GREGORIAN
METHOD:PUBLISH
X-WR-CALNAME:КДАіС
X-ORIGINAL-URL:https://kdais.kiev.ua/event/18012023-rector/
X-WR-CALDESC:Архієпископ Сильвестр співслужив Предстоятелю УПЦ за богослужінням напередодні свята Богоявлення (+ВІДЕО)
BEGIN:VEVENT
DTSTART:20230118T233000
DTEND:20230118T233000
SUMMARY:Архієпископ Сильвестр співслужив Предстоятелю УПЦ за богослужінням напередодні свята Богоявлення (+ВІДЕО)
DESCRIPTION:Всенічне бдіння було звершено у храмі на честь преподобного Агапіта Печерського у Києво-Печерській Лаврі.
LOCATION:
END:VEVENT
END:VCALENDAR
