BEGIN:VCALENDAR
VERSION:2.0
PRODID:-//КДАіС
CALSCALE:GREGORIAN
METHOD:PUBLISH
X-WR-CALNAME:КДАіС
X-ORIGINAL-URL:https://kdais.kiev.ua/event/bohoyavlennya-19012023/
X-WR-CALDESC:В КДА молитовно відзначили свято Богоявлення, Хрещення Господа нашого Іісуса Христа (+ВІДЕО)
BEGIN:VEVENT
DTSTART:20230119T233000
DTEND:20230119T233000
SUMMARY:В КДА молитовно відзначили свято Богоявлення, Хрещення Господа нашого Іісуса Христа (+ВІДЕО)
DESCRIPTION:Наприкінці Літургії був звершений чин Великого освячення води, після чого духовенство окропило вірян святою водою.
LOCATION:
END:VEVENT
END:VCALENDAR
