BEGIN:VCALENDAR
VERSION:2.0
PRODID:-//КДАіС
CALSCALE:GREGORIAN
METHOD:PUBLISH
X-WR-CALNAME:КДАіС
X-ORIGINAL-URL:https://kdais.kiev.ua/event/190123_liturhiya/
X-WR-CALDESC:У свято Богоявлення ректор Академії взяв участь у соборному богослужінні у Києво-Печерській Лаврі (+ВІДЕО)
BEGIN:VEVENT
DTSTART:20230119T233000
DTEND:20230119T233000
SUMMARY:У свято Богоявлення ректор Академії взяв участь у соборному богослужінні у Києво-Печерській Лаврі (+ВІДЕО)
DESCRIPTION:Божественну літургію в храмі на честь преподобного Агапіта Печерського очолив Предстоятель Української Православної Церкви Блаженніший Митрополит Київський і всієї України Онуфрій.
LOCATION:
END:VEVENT
END:VCALENDAR
