BEGIN:VCALENDAR
VERSION:2.0
PRODID:-//КДАіС
CALSCALE:GREGORIAN
METHOD:PUBLISH
X-WR-CALNAME:КДАіС
X-ORIGINAL-URL:https://kdais.kiev.ua/event/19012023-dnipro/
X-WR-CALDESC:У свято Богоявлення ректор Київських духовних шкіл взяв участь у освяченні вод Дніпра у м. Києві
BEGIN:VEVENT
DTSTART:20230119T233000
DTEND:20230119T233000
SUMMARY:У свято Богоявлення ректор Київських духовних шкіл взяв участь у освяченні вод Дніпра у м. Києві
DESCRIPTION:Чин Великого освячення вод Дніпра традиційно відбувся поблизу Свято-Покровського собору в Оболонському районі м. Києва.
LOCATION:
END:VEVENT
END:VCALENDAR
