BEGIN:VCALENDAR
VERSION:2.0
PRODID:-//КДАіС
CALSCALE:GREGORIAN
METHOD:PUBLISH
X-WR-CALNAME:КДАіС
X-ORIGINAL-URL:https://kdais.kiev.ua/event/propoved-rus-29012023/
X-WR-CALDESC:Проповедь архиепископа Белогородского Сильвестра в Неделю о Закхее
BEGIN:VEVENT
DTSTART:20230129T233000
DTEND:20230129T233000
SUMMARY:Проповедь архиепископа Белогородского Сильвестра в Неделю о Закхее
DESCRIPTION:Проповедь ректора Киевской духовной академии и семинарии архиепископа Белогородского Сильвестра в Неделю о Закхее.
LOCATION:
END:VEVENT
END:VCALENDAR
