BEGIN:VCALENDAR
VERSION:2.0
PRODID:-//КДАіС
CALSCALE:GREGORIAN
METHOD:PUBLISH
X-WR-CALNAME:КДАіС
X-ORIGINAL-URL:https://kdais.kiev.ua/event/bdinya-14022023/
X-WR-CALDESC:Всенічне бдіння напередодні свята Стрітення Господнього
BEGIN:VEVENT
DTSTART:20230214T233000
DTEND:20230214T233000
SUMMARY:Всенічне бдіння напередодні свята Стрітення Господнього
DESCRIPTION:Богослужіння було звершено в Академічному храмі на честь Різдва Божої Матері.
LOCATION:
END:VEVENT
END:VCALENDAR
