BEGIN:VCALENDAR
VERSION:2.0
PRODID:-//КДАіС
CALSCALE:GREGORIAN
METHOD:PUBLISH
X-WR-CALNAME:КДАіС
X-ORIGINAL-URL:https://kdais.kiev.ua/event/akafist-22022023/
X-WR-CALDESC:Традиційне читання Акафіста перед Києво-Братською іконою Божої Матері
BEGIN:VEVENT
DTSTART:20230222T233000
DTEND:20230222T233000
SUMMARY:Традиційне читання Акафіста перед Києво-Братською іконою Божої Матері
DESCRIPTION:Богослужіння в Академічному храмі Різдва Пресвятої Богородиці звершив ректор КДАіС архієпископ Білогородський Сильвестр.
LOCATION:
END:VEVENT
END:VCALENDAR
