BEGIN:VCALENDAR
VERSION:2.0
PRODID:-//КДАіС
CALSCALE:GREGORIAN
METHOD:PUBLISH
X-WR-CALNAME:КДАіС
X-ORIGINAL-URL:https://kdais.kiev.ua/event/svyati-kda-09-03-2025/
X-WR-CALDESC:Собор святих КДА: священносповідник Сильвестр, архієпископ Омський (+1920)
BEGIN:VEVENT
DTSTART:20250310T233000
DTEND:20250310T233000
SUMMARY:Собор святих КДА: священносповідник Сильвестр, архієпископ Омський (+1920)
DESCRIPTION:У 1877-1883 p.p. навчався у Київській духовній семінарії. Під час навчання допомагав ректору КДА архімандриту Сильвестру (Малеванскому) як чтець та переписувач
LOCATION:
END:VEVENT
END:VCALENDAR
