BEGIN:VCALENDAR
VERSION:2.0
PRODID:-//КДАіС
CALSCALE:GREGORIAN
METHOD:PUBLISH
X-WR-CALNAME:КДАіС
X-ORIGINAL-URL:https://kdais.kiev.ua/event/pasiya-12032023/
X-WR-CALDESC:У другу Неділю Великого посту в Київських духовних школах звершена Пасія з читанням Акафісту Страстям Христовим
BEGIN:VEVENT
DTSTART:20230312T233000
DTEND:20230312T233000
SUMMARY:У другу Неділю Великого посту в Київських духовних школах звершена Пасія з читанням Акафісту Страстям Христовим
DESCRIPTION:Богослужіння звершив голова Учбового комітету при Священному Синоді Української Православної Церкви митрополит Ніжинський і Прилуцький Климент.
LOCATION:
END:VEVENT
END:VCALENDAR
