BEGIN:VCALENDAR
VERSION:2.0
PRODID:-//КДАіС
CALSCALE:GREGORIAN
METHOD:PUBLISH
X-WR-CALNAME:КДАіС
X-ORIGINAL-URL:https://kdais.kiev.ua/event/14032023-konferenciya-2/
X-WR-CALDESC:Завершилась робота секцій щорічної студентської конференції «Студентська наука в духовній школі»
BEGIN:VEVENT
DTSTART:20230314T233000
DTEND:20230314T233000
SUMMARY:Завершилась робота секцій щорічної студентської конференції «Студентська наука в духовній школі»
DESCRIPTION:Участь у форумі очно та дистанційно прийняло більше 90 доповідачів, серед яких представники духовних навчальних закладів Української Православної Церкви, представники світських вищих навчальних закладів з України та з-за кордону, викладачі і студенти Київських духовних шкіл.
LOCATION:
END:VEVENT
END:VCALENDAR
