BEGIN:VCALENDAR
VERSION:2.0
PRODID:-//КДАіС
CALSCALE:GREGORIAN
METHOD:PUBLISH
X-WR-CALNAME:КДАіС
X-ORIGINAL-URL:https://kdais.kiev.ua/event/lpd-21032023/
X-WR-CALDESC:Богослужіння у день пам’яті 40 мучеників Севастійських
BEGIN:VEVENT
DTSTART:20230321T233000
DTEND:20230321T233000
SUMMARY:Богослужіння у день пам’яті 40 мучеників Севастійських
DESCRIPTION:Богослужіння очолив учений секретар архімандрит Митрофан (Божко) у співслужінні викладачів, та студентів Київських духовних шкіл у священному сані.
LOCATION:
END:VEVENT
END:VCALENDAR
