BEGIN:VCALENDAR
VERSION:2.0
PRODID:-//КДАіС
CALSCALE:GREGORIAN
METHOD:PUBLISH
X-WR-CALNAME:КДАіС
X-ORIGINAL-URL:https://kdais.kiev.ua/event/23032023/
X-WR-CALDESC:Студенти І курсу Академії відвідали столичну парафію Вірменської Апостольської Церкви
BEGIN:VEVENT
DTSTART:20230323T233000
DTEND:20230323T233000
SUMMARY:Студенти І курсу Академії відвідали столичну парафію Вірменської Апостольської Церкви
DESCRIPTION:Групу супроводжував викладач предмету Історії давніх Східних Церков доцент протоієрей Андрій Ухтомський.
LOCATION:
END:VEVENT
END:VCALENDAR
