BEGIN:VCALENDAR
VERSION:2.0
PRODID:-//КДАіС
CALSCALE:GREGORIAN
METHOD:PUBLISH
X-WR-CALNAME:КДАіС
X-ORIGINAL-URL:https://kdais.kiev.ua/event/pidtrymka-24032023/
X-WR-CALDESC:Мюнстерський університет (Німеччина) висловив підтримку Київським духовним школам у зв’язку з їх можливим виселенням з Києво-Печерської Лаври
BEGIN:VEVENT
DTSTART:20230324T233000
DTEND:20230324T233000
SUMMARY:Мюнстерський університет (Німеччина) висловив підтримку Київським духовним школам у зв’язку з їх можливим виселенням з Києво-Печерської Лаври
DESCRIPTION:Університет підтримує звернення КДА до світової релігійної спільноти із закликом стати на захист Київських духовних шкіл, яке було опубліковано на офіційних ресурсах Академії та Української Православної Церкви англійською, французькою, італійською, іспанською та німецькою мовами.
LOCATION:
END:VEVENT
END:VCALENDAR
