BEGIN:VCALENDAR
VERSION:2.0
PRODID:-//КДАіС
CALSCALE:GREGORIAN
METHOD:PUBLISH
X-WR-CALNAME:КДАіС
X-ORIGINAL-URL:https://kdais.kiev.ua/event/27032023/
X-WR-CALDESC:Найбільший французький православний інтернет-портал Orthodoxie.com опублікував відкрите звернення ректора КДА до української громадськості
BEGIN:VEVENT
DTSTART:20230327T233000
DTEND:20230327T233000
SUMMARY:Найбільший французький православний інтернет-портал Orthodoxie.com опублікував відкрите звернення ректора КДА до української громадськості
DESCRIPTION:26 березня 2023 року на сайті Orthodoxie.com, котрий є найбільшим інтернет-порталом у Франції, що висвітлює події світового Православ’я, було опубліковано відкрите звернення архієпископа Білогородського Сильвестра до української громадськості французькою мовою.
LOCATION:
END:VEVENT
END:VCALENDAR
