BEGIN:VCALENDAR
VERSION:2.0
PRODID:-//КДАіС
CALSCALE:GREGORIAN
METHOD:PUBLISH
X-WR-CALNAME:КДАіС
X-ORIGINAL-URL:https://kdais.kiev.ua/event/06042023-kda-kpl/
X-WR-CALDESC:Музей, Лавра, Академія: заблукати між трьох дубів
BEGIN:VEVENT
DTSTART:20230406T233000
DTEND:20230406T233000
SUMMARY:Музей, Лавра, Академія: заблукати між трьох дубів
DESCRIPTION:Ректор Київської духовної академії і семінарії архієпископ Білогородський Сильвестр про взаємини Академії та Національного історико-культурного заповідника «Києво-Печерська Лавра». 
LOCATION:
END:VEVENT
END:VCALENDAR
