BEGIN:VCALENDAR
VERSION:2.0
PRODID:-//КДАіС
CALSCALE:GREGORIAN
METHOD:PUBLISH
X-WR-CALNAME:КДАіС
X-ORIGINAL-URL:https://kdais.kiev.ua/event/bdinnya-08042023/
X-WR-CALDESC:Всенічне бдіння напередодні Входу Господнього в Єрусалим
BEGIN:VEVENT
DTSTART:20230408T233000
DTEND:20230408T233000
SUMMARY:Всенічне бдіння напередодні Входу Господнього в Єрусалим
DESCRIPTION:За богослужінням також молились викладачі і студенти КДАіС, парафіяни Академічного храму, паломники Києво-Печерської Лаври, а також люди, які знайшли прихисток в Академії та святій обителі.
LOCATION:
END:VEVENT
END:VCALENDAR
