BEGIN:VCALENDAR
VERSION:2.0
PRODID:-//КДАіС
CALSCALE:GREGORIAN
METHOD:PUBLISH
X-WR-CALNAME:КДАіС
X-ORIGINAL-URL:https://kdais.kiev.ua/event/slovo-04-05-2024-ru/
X-WR-CALDESC:Слово архиепископа Белогородского Сильвестра в Великую Субботу
BEGIN:VEVENT
DTSTART:20240504T233000
DTEND:20240504T233000
SUMMARY:Слово архиепископа Белогородского Сильвестра в Великую Субботу
DESCRIPTION:Слово в Великую Субботу ректора Киевской духовной академии и семинарии архиепископа Белогородского Сильвестра.

LOCATION:
END:VEVENT
END:VCALENDAR
