BEGIN:VCALENDAR
VERSION:2.0
PRODID:-//КДАіС
CALSCALE:GREGORIAN
METHOD:PUBLISH
X-WR-CALNAME:КДАіС
X-ORIGINAL-URL:https://kdais.kiev.ua/event/25042023-kdais/
X-WR-CALDESC:На території Київської духовної академії вчинена провокація
BEGIN:VEVENT
DTSTART:20230425T233000
DTEND:20230425T233000
SUMMARY:На території Київської духовної академії вчинена провокація
DESCRIPTION:Адміністрація КДАіС вже звернулася до економської служби Києво-Печерської Лаври з проханням надати роз’яснення, з яких причин їхній автомобіль із водієм-провокатором перебував на території Академії.
LOCATION:
END:VEVENT
END:VCALENDAR
