BEGIN:VCALENDAR
VERSION:2.0
PRODID:-//КДАіС
CALSCALE:GREGORIAN
METHOD:PUBLISH
X-WR-CALNAME:КДАіС
X-ORIGINAL-URL:https://kdais.kiev.ua/event/24052023-liturgies/
X-WR-CALDESC:Відання Пасхи. День памʼяті рівноапостольних Мефодія і Кирила
BEGIN:VEVENT
DTSTART:20230524T233000
DTEND:20230524T233000
SUMMARY:Відання Пасхи. День памʼяті рівноапостольних Мефодія і Кирила
DESCRIPTION:Богослужіння в Академічному храмі Різдва Божої Матері очолив Керуючий справами УПЦ митрополит Бориспільский і Броварський Антоній у співслужінні викладачів та студентів КДАіС.
LOCATION:
END:VEVENT
END:VCALENDAR
