BEGIN:VCALENDAR
VERSION:2.0
PRODID:-//КДАіС
CALSCALE:GREGORIAN
METHOD:PUBLISH
X-WR-CALNAME:КДАіС
X-ORIGINAL-URL:https://kdais.kiev.ua/event/vykhovnarada-24052023/
X-WR-CALDESC:Під головуванням ректора КДА відбулось засідання Виховної ради
BEGIN:VEVENT
DTSTART:20230524T233000
DTEND:20230524T233000
SUMMARY:Під головуванням ректора КДА відбулось засідання Виховної ради
DESCRIPTION:Під час Виховної ради владика ректор обговорив з присутніми внутрішні питання виховного процесу в Київських духовних школах напередодні закінчення навчального року та низку інших важливих питань, що стосуються життя та діяльності Академії.
LOCATION:
END:VEVENT
END:VCALENDAR
