BEGIN:VCALENDAR
VERSION:2.0
PRODID:-//КДАіС
CALSCALE:GREGORIAN
METHOD:PUBLISH
X-WR-CALNAME:КДАіС
X-ORIGINAL-URL:https://kdais.kiev.ua/event/27052023-2/
X-WR-CALDESC:Всенічне бдіння в Академії напередодні 7-ої Неділі після Пасхи, свв. отців I Вселенського Собору
BEGIN:VEVENT
DTSTART:20230527T233000
DTEND:20230527T233000
SUMMARY:Всенічне бдіння в Академії напередодні 7-ої Неділі після Пасхи, свв. отців I Вселенського Собору
DESCRIPTION:Богослужіння звершив Керуючий справами Української Православної Церкви митрополит Бориспільський і Броварський Антоній.

LOCATION:
END:VEVENT
END:VCALENDAR
