BEGIN:VCALENDAR
VERSION:2.0
PRODID:-//КДАіС
CALSCALE:GREGORIAN
METHOD:PUBLISH
X-WR-CALNAME:КДАіС
X-ORIGINAL-URL:https://kdais.kiev.ua/event/30052023-2/
X-WR-CALDESC:У Недільній школі при КДАіС відзначили завершення навчального року
BEGIN:VEVENT
DTSTART:20230530T233000
DTEND:20230530T233000
SUMMARY:У Недільній школі при КДАіС відзначили завершення навчального року
DESCRIPTION:Святковий подячний молебень в Академічному храмі на честь Різдва Божої Матері звершив куратор Недільної школи архімандрит Маркел (Павук).
LOCATION:
END:VEVENT
END:VCALENDAR
