BEGIN:VCALENDAR
VERSION:2.0
PRODID:-//КДАіС
CALSCALE:GREGORIAN
METHOD:PUBLISH
X-WR-CALNAME:КДАіС
X-ORIGINAL-URL:https://kdais.kiev.ua/event/03062023-vidspivuvannya/
X-WR-CALDESC:У Києво-Печерській Лаврі відбулось відспівування новопреставленого архімандрита Романа (Подлубняка) (+ВІДЕО)
BEGIN:VEVENT
DTSTART:20230603T233000
DTEND:20230603T233000
SUMMARY:У Києво-Печерській Лаврі відбулось відспівування новопреставленого архімандрита Романа (Подлубняка) (+ВІДЕО)
DESCRIPTION:Заупокійну Божественну літургію та чин відспівування спочилого викладача та регента хору Київських духовних шкіл очолив Керуючий справами УПЦ митрополит Бориспільський і Броварський Антоній.
LOCATION:
END:VEVENT
END:VCALENDAR
