BEGIN:VCALENDAR
VERSION:2.0
PRODID:-//КДАіС
CALSCALE:GREGORIAN
METHOD:PUBLISH
X-WR-CALNAME:КДАіС
X-ORIGINAL-URL:https://kdais.kiev.ua/event/liturgy_rector_04062023/
X-WR-CALDESC:Ректор КДА очолив престольне свято Свято-Троїцького храму у Голосіївському районі м. Києва (+ВІДЕО)
BEGIN:VEVENT
DTSTART:20230604T233000
DTEND:20230604T233000
SUMMARY:Ректор КДА очолив престольне свято Свято-Троїцького храму у Голосіївському районі м. Києва (+ВІДЕО)
DESCRIPTION:Наприкінці вечірнього богослужіння Високопреосвященніший владика разом з духовенством звершив чин славління, освятив зілля, які принесли віряни, після чого передав благословення Блаженнішого Митрополита Онуфрія і привітав настоятеля, духовенство та парафіян храму з престольним святом.
LOCATION:
END:VEVENT
END:VCALENDAR
