BEGIN:VCALENDAR
VERSION:2.0
PRODID:-//КДАіС
CALSCALE:GREGORIAN
METHOD:PUBLISH
X-WR-CALNAME:КДАіС
X-ORIGINAL-URL:https://kdais.kiev.ua/event/18-06-2023-vypusk/
X-WR-CALDESC:50 випускників катехізаторських курсів імені свт. Петра Могили, що діють при КДА, отримали свідоцтва про закінчення навчання
BEGIN:VEVENT
DTSTART:20230618T233000
DTEND:20230618T233000
SUMMARY:50 випускників катехізаторських курсів імені свт. Петра Могили, що діють при КДА, отримали свідоцтва про закінчення навчання
DESCRIPTION:У цьому році документи про закінчення навчання отримали 50 випускників, які успішно пройшли відділи церковного співу, богослужбового уставу і читання, іконописного відділення та відділу церковного краєзнавства.
LOCATION:
END:VEVENT
END:VCALENDAR
