BEGIN:VCALENDAR
VERSION:2.0
PRODID:-//КДАіС
CALSCALE:GREGORIAN
METHOD:PUBLISH
X-WR-CALNAME:КДАіС
X-ORIGINAL-URL:https://kdais.kiev.ua/event/liturhiya-20-06-2023/
X-WR-CALDESC:Випускники Семінарії молитовно відзначили 5-річчя свого випуску
BEGIN:VEVENT
DTSTART:20230620T233000
DTEND:20230620T233000
SUMMARY:Випускники Семінарії молитовно відзначили 5-річчя свого випуску
DESCRIPTION:Богослужіння очолив старший помічник проректора з виховної роботи архімандрит Володимир (Ціпіньо) у співслужінні випускників у священному сані.
LOCATION:
END:VEVENT
END:VCALENDAR
