BEGIN:VCALENDAR
VERSION:2.0
PRODID:-//КДАіС
CALSCALE:GREGORIAN
METHOD:PUBLISH
X-WR-CALNAME:КДАіС
X-ORIGINAL-URL:https://kdais.kiev.ua/event/vitanniya-250623/
X-WR-CALDESC:Вітаємо Предстоятеля Української Православної Церкви з Днем Ангела!
BEGIN:VEVENT
DTSTART:20230625T233000
DTEND:20230625T233000
SUMMARY:Вітаємо Предстоятеля Української Православної Церкви з Днем Ангела!
DESCRIPTION:Ректор, адміністрація, викладацька корпорація, співробітники, студенти і вихованці Київських духовних шкіл від щирого серця вітають Ваше Блаженство з Днем пам’яті Вашого Небесного покровителя — преподобного Онуфрія Великого!
LOCATION:
END:VEVENT
END:VCALENDAR
