BEGIN:VCALENDAR
VERSION:2.0
PRODID:-//КДАіС
CALSCALE:GREGORIAN
METHOD:PUBLISH
X-WR-CALNAME:КДАіС
X-ORIGINAL-URL:https://kdais.kiev.ua/event/2023-06-24-bdinya/
X-WR-CALDESC:Всенічне бдіння в Академічному храмі напередодні третьої Неділі після П&#8217;ятидесятниці
BEGIN:VEVENT
DTSTART:20230624T233000
DTEND:20230624T233000
SUMMARY:Всенічне бдіння в Академічному храмі напередодні третьої Неділі після П&#8217;ятидесятниці
DESCRIPTION:Богослужіння очолив учений секретар архімандрит Митрофан (Божко) у співслужінні викладачів, та студентів Київських духовних шкіл у священному сані.
LOCATION:
END:VEVENT
END:VCALENDAR
