BEGIN:VCALENDAR
VERSION:2.0
PRODID:-//КДАіС
CALSCALE:GREGORIAN
METHOD:PUBLISH
X-WR-CALNAME:КДАіС
X-ORIGINAL-URL:https://kdais.kiev.ua/event/2023-06-24-bdinya-rector/
X-WR-CALDESC:Ректор КДАіС молився за Всенічним бдінням напередодні Дня Ангела Предстоятеля Української Православної Церкви
BEGIN:VEVENT
DTSTART:20230624T233000
DTEND:20230624T233000
SUMMARY:Ректор КДАіС молився за Всенічним бдінням напередодні Дня Ангела Предстоятеля Української Православної Церкви
DESCRIPTION:Богослужіння у Свято-Пантелеймонівському жіночому монастирі (Феофанія) звершив Предстоятель Української Православної Церкви Блаженніший Митрополит Київський і всієї України Онуфрій.
LOCATION:
END:VEVENT
END:VCALENDAR
