BEGIN:VCALENDAR
VERSION:2.0
PRODID:-//КДАіС
CALSCALE:GREGORIAN
METHOD:PUBLISH
X-WR-CALNAME:КДАіС
X-ORIGINAL-URL:https://kdais.kiev.ua/event/2023-06-25-liturhiya/
X-WR-CALDESC:Божественна літургія у 3-тю Неділю після П&#8217;ятдесятниці, день пам’яті преподобного Онуфрія Великого
BEGIN:VEVENT
DTSTART:20230625T233000
DTEND:20230625T233000
SUMMARY:Божественна літургія у 3-тю Неділю після П&#8217;ятдесятниці, день пам’яті преподобного Онуфрія Великого
DESCRIPTION:Після завершення богослужіння архімандрит Митрофан звернувся до присутніх зі словом проповіді. Після чого було виголошено многоліття Блаженнішому Митрополиту Онуфрію.
LOCATION:
END:VEVENT
END:VCALENDAR
